BEGIN:VCALENDAR
VERSION:2.0
PRODID:-//jEvents 2.0 for Joomla//EN
CALSCALE:GREGORIAN
METHOD:PUBLISH
BEGIN:VEVENT
UID:22167c9b58bfb57ebce85e551e395697
CATEGORIES:每日新聞彙整
SUMMARY:本日無相關剪報資料
DESCRIPTION;ENCODING=QUOTED-PRINTABLE:
DTSTAMP:20260419T201908Z
DTSTART;TZID=Asia/Taipei;VALUE=DATE:20170226
DTEND;TZID=Asia/Taipei;VALUE=DATE:20170227
SEQUENCE:0
TRANSP:OPAQUE
END:VEVENT
END:VCALENDAR