BEGIN:VCALENDAR
VERSION:2.0
PRODID:-//jEvents 2.0 for Joomla//EN
CALSCALE:GREGORIAN
METHOD:PUBLISH
BEGIN:VEVENT
UID:4b7e15325ac3df67cc8bff7b6af2d1b5
CATEGORIES:每日新聞彙整
SUMMARY:本日無相關剪報資料
DESCRIPTION;ENCODING=QUOTED-PRINTABLE:
DTSTAMP:20260419T201934Z
DTSTART;TZID=Asia/Taipei;VALUE=DATE:20170225
DTEND;TZID=Asia/Taipei;VALUE=DATE:20170226
SEQUENCE:0
TRANSP:OPAQUE
END:VEVENT
END:VCALENDAR