BEGIN:VCALENDAR
VERSION:2.0
PRODID:-//jEvents 2.0 for Joomla//EN
CALSCALE:GREGORIAN
METHOD:PUBLISH
BEGIN:VEVENT
UID:b902ea349e85563e16d615230ff200a7
CATEGORIES:每日新聞彙整
SUMMARY:每日剪報
DESCRIPTION;ENCODING=QUOTED-PRINTABLE:\n\n1.合約競標印度風電饋入價大降23％\n\n\n2.汙水變財源邱鏡淳師法宮崎\n
DTSTAMP:20260419T201932Z
DTSTART;TZID=Asia/Taipei;VALUE=DATE:20170227
DTEND;TZID=Asia/Taipei;VALUE=DATE:20170228
SEQUENCE:0
TRANSP:OPAQUE
END:VEVENT
END:VCALENDAR