BEGIN:VCALENDAR
VERSION:2.0
PRODID:-//jEvents 2.0 for Joomla//EN
CALSCALE:GREGORIAN
METHOD:PUBLISH
BEGIN:VEVENT
UID:48b0375457ab16a85da3eb5059b89005
CATEGORIES:每日新聞彙整
SUMMARY:每日剪報
DESCRIPTION;ENCODING=QUOTED-PRINTABLE:\n\n1.產創條例行政院會通過\n\n\n2.核廢料拆穿核電神話\n
DTSTAMP:20260419T215800Z
DTSTART;TZID=Asia/Taipei;VALUE=DATE:20170224
DTEND;TZID=Asia/Taipei;VALUE=DATE:20170225
SEQUENCE:0
TRANSP:OPAQUE
END:VEVENT
END:VCALENDAR