BEGIN:VCALENDAR
VERSION:2.0
PRODID:-//jEvents 2.0 for Joomla//EN
CALSCALE:GREGORIAN
METHOD:PUBLISH
BEGIN:VEVENT
UID:5164606e1b9a89869f9c55e6c7d64d0e
CATEGORIES:每日新聞彙整
SUMMARY:每日剪報
DESCRIPTION;ENCODING=QUOTED-PRINTABLE:\n\n1.麥肯錫預估，到2035年…　　全球再生能源供電比重升至36％\n\n\n2.抗旱動起來！台積電一滴水用3.5次\n\n\n3.水資源管理不
 夠拿什麼抗旱\n
DTSTAMP:20260419T201437Z
DTSTART;TZID=Asia/Taipei;VALUE=DATE:20170223
DTEND;TZID=Asia/Taipei;VALUE=DATE:20170224
SEQUENCE:0
TRANSP:OPAQUE
END:VEVENT
END:VCALENDAR