BEGIN:VCALENDAR
VERSION:2.0
PRODID:-//jEvents 2.0 for Joomla//EN
CALSCALE:GREGORIAN
METHOD:PUBLISH
BEGIN:VEVENT
UID:124f571ad97621bd200aa8e96846953f
CATEGORIES:每日新聞彙整
SUMMARY:每日剪報
DESCRIPTION;ENCODING=QUOTED-PRINTABLE:\n\n1.台糖設沼氣公司搶中油地盤\n
DTSTAMP:20260419T201907Z
DTSTART;TZID=Asia/Taipei;VALUE=DATE:20170222
DTEND;TZID=Asia/Taipei;VALUE=DATE:20170223
SEQUENCE:0
TRANSP:OPAQUE
END:VEVENT
END:VCALENDAR