BEGIN:VCALENDAR
VERSION:2.0
PRODID:-//jEvents 2.0 for Joomla//EN
CALSCALE:GREGORIAN
METHOD:PUBLISH
BEGIN:VEVENT
UID:1059640f0d28ceb85041e3d802d55f40
CATEGORIES:每日新聞彙整
SUMMARY:每日剪報
DESCRIPTION;ENCODING=QUOTED-PRINTABLE:\n\n1.全國首座綠建築柴油車檢測站 龜山揭牌\n\n\n2.首度證實大屯火山群有岩漿庫\n\n\n3.台電月刊650期國家首座防災型微電網啟動\n
 \n\n4.南水局主持阿公店水庫浮力式太陽能發電開工典禮\n\n\n5.沼氣發電！台糖養豬場 糞土變黃金\n
DTSTAMP:20260419T201908Z
DTSTART;TZID=Asia/Taipei;VALUE=DATE:20170221
DTEND;TZID=Asia/Taipei;VALUE=DATE:20170222
SEQUENCE:0
TRANSP:OPAQUE
END:VEVENT
END:VCALENDAR