BEGIN:VCALENDAR
VERSION:2.0
PRODID:-//jEvents 2.0 for Joomla//EN
CALSCALE:GREGORIAN
METHOD:PUBLISH
BEGIN:VEVENT
UID:d7d9e828f8058c219d5cd6af780833ba
CATEGORIES:每日新聞彙整
SUMMARY:每日剪報
DESCRIPTION;ENCODING=QUOTED-PRINTABLE:\n\n1.離岸風機變電站 台電獨吞吃癟\n\n\n2.反空污要健康 千人上街爭一口氣\n\n\n3.忙完年改後 副總統︰下一步抗暖化\n\n\n4.
 30％境外空汙 70％烏賊車、工廠肇禍\n\n\n5.專利授權＋聯盟合作成新藥開發新趨勢\n\n\n6.落實節能行動計畫能源局提供技術諮詢\n\n\n
 7.台中高雄萬人上街反空污\n\n\n \n\n\n8.核四沒事幹挪40萬蓋麵包坊\n\n\n9.治空汙…推淨區鍋爐改燒天然氣\n\n\n10.北極海
 冰面積上月創新低\n\n\n \n\n\n \n
DTSTAMP:20260419T201932Z
DTSTART;TZID=Asia/Taipei;VALUE=DATE:20170220
DTEND;TZID=Asia/Taipei;VALUE=DATE:20170221
SEQUENCE:0
TRANSP:OPAQUE
END:VEVENT
END:VCALENDAR