BEGIN:VCALENDAR
VERSION:2.0
PRODID:-//jEvents 2.0 for Joomla//EN
CALSCALE:GREGORIAN
METHOD:PUBLISH
BEGIN:VEVENT
UID:076ce2210aba5deb319834d95b960c1c
CATEGORIES:每日新聞彙整
SUMMARY:每日剪報
DESCRIPTION;ENCODING=QUOTED-PRINTABLE:\n\n1.強化防駭 政院4月啟動公務機關資安稽核\n\n\n2.核廢放基隆珍珠變爛石頭\n\n\n3.台中、高雄今反空汙大遊行力爭呼吸平權南北開打\
 n\n\n4.環署將修法納空品淨區概念\n\n\n5.每日網攻20萬次資安唉唉叫\n\n\n6.一人一信阻年金改革不當修法揚言求償萬名公務員存證信函寄
 立院\n
DTSTAMP:20260419T201932Z
DTSTART;TZID=Asia/Taipei;VALUE=DATE:20170219
DTEND;TZID=Asia/Taipei;VALUE=DATE:20170220
SEQUENCE:0
TRANSP:OPAQUE
END:VEVENT
END:VCALENDAR