BEGIN:VCALENDAR
VERSION:2.0
PRODID:-//jEvents 2.0 for Joomla//EN
CALSCALE:GREGORIAN
METHOD:PUBLISH
BEGIN:VEVENT
UID:c45e557a20f9ce18fe06ed1cfc6ac7b4
CATEGORIES:每日新聞彙整
SUMMARY:每日剪報
DESCRIPTION;ENCODING=QUOTED-PRINTABLE:\n\n1.原能會︰不排除可能擴大監測\n\n\n2.核一廠6月燃料池貯滿停擺解缺電危機台電斥資6億導入新制\n\n\n3.虛擬電廠商機無限大\n\n
 \n4.龍潭議員反對核研所收核廢料\n\n\n5.5月上路台電引進用戶群代表制度\n\n\n6.需量反應潛能300萬瓩商機無限\n\n\n7.垃圾場種
 電年賺100萬\n\n\n8.義國核廢料疑雲原能會監測海域輻射\n\n\n9.以PM2.5打開台灣未來之門\n
DTSTAMP:20260419T201907Z
DTSTART;TZID=Asia/Taipei;VALUE=DATE:20170218
DTEND;TZID=Asia/Taipei;VALUE=DATE:20170219
SEQUENCE:0
TRANSP:OPAQUE
END:VEVENT
END:VCALENDAR