BEGIN:VCALENDAR
VERSION:2.0
PRODID:-//jEvents 2.0 for Joomla//EN
CALSCALE:GREGORIAN
METHOD:PUBLISH
BEGIN:VEVENT
UID:8da73b06404128e33d91557cfd349d1a
CATEGORIES:每日新聞彙整
SUMMARY:每日剪報
DESCRIPTION;ENCODING=QUOTED-PRINTABLE:\n\n1.銓敘部：18趴不改得再付70年\n\n\n2.SEMI串連產官學研拚綠能科技\n\n\n3.陸官員驚爆川震險釀類似福島核事故\n\n\n4
 .川震毀秘密核基地初估損3千億\n\n\n5.核廢選址 N年難料\n\n\n6.義大利核廢拋台海？ 原能會下午公布\n\n\n7.全國第一掩埋場太陽能
 電廠 北市「能源之丘」啟用\n
DTSTAMP:20260419T201932Z
DTSTART;TZID=Asia/Taipei;VALUE=DATE:20170217
DTEND;TZID=Asia/Taipei;VALUE=DATE:20170218
SEQUENCE:0
TRANSP:OPAQUE
END:VEVENT
END:VCALENDAR