BEGIN:VCALENDAR
VERSION:2.0
PRODID:-//jEvents 2.0 for Joomla//EN
CALSCALE:GREGORIAN
METHOD:PUBLISH
BEGIN:VEVENT
UID:1e74418651529777759ab6dc6176f6a8
CATEGORIES:每日新聞彙整
SUMMARY:每日剪報
DESCRIPTION;ENCODING=QUOTED-PRINTABLE:\n\n1.蘭嶼核廢料 台電9年內遷離\n\n\n2.核廢搬哪台電須3年選址\n\n\n3.不能再拖核廢選址、取得土地 3年完成\n\n\n4.核廢選
 址三年完成台電：與想像中不同\n\n\n5.聞核色變學者：對話完成核廢選址\n\n\n6.原能會要求台電 3年內完成選址\n\n\n7.擴大內需特別預
 算案林全指示以8年為期程規劃\n\n\n8.川普廢除能源揭露條款\n\n\n9.環團施壓廢輪胎去化無門\n\n\n10.台日先進電池技術交流會 2月2
 8日東京舉行\n\n\n11.盛齊科技進軍太陽能監控與維運\n
DTSTAMP:20260419T201931Z
DTSTART;TZID=Asia/Taipei;VALUE=DATE:20170216
DTEND;TZID=Asia/Taipei;VALUE=DATE:20170217
SEQUENCE:0
TRANSP:OPAQUE
END:VEVENT
END:VCALENDAR