BEGIN:VCALENDAR
VERSION:2.0
PRODID:-//jEvents 2.0 for Joomla//EN
CALSCALE:GREGORIAN
METHOD:PUBLISH
BEGIN:VEVENT
UID:6dd3a762455b8343a5b6b75331c912d2
CATEGORIES:每日新聞彙整
SUMMARY:每日剪報
DESCRIPTION;ENCODING=QUOTED-PRINTABLE:\n\n1.蔡總統推綠電：2025投入3兆\n
DTSTAMP:20260419T215846Z
DTSTART;TZID=Asia/Taipei;VALUE=DATE:20170215
DTEND;TZID=Asia/Taipei;VALUE=DATE:20170216
SEQUENCE:0
TRANSP:OPAQUE
END:VEVENT
END:VCALENDAR