BEGIN:VCALENDAR
VERSION:2.0
PRODID:-//jEvents 2.0 for Joomla//EN
CALSCALE:GREGORIAN
METHOD:PUBLISH
BEGIN:VEVENT
UID:d837003c480f25321c95e696c3b43413
CATEGORIES:每日新聞彙整
SUMMARY:每日剪報
DESCRIPTION;ENCODING=QUOTED-PRINTABLE:\n\n1.核廢集中貯存 疑為規避最終處置場公投\n\n\n2.《311廢核遊行》環團：先立法後選址\n\n\n3.龍潭擬設天然氣發電組 居民抗議\n
 \n\n4.9年內核廢回廠還蘭嶼清淨\n\n\n5.台電相中無人島貯存核廢基澎金馬不給放\n\n\n6.說好的非核政策呢？公民團體311遊行\n\n\
 n7.無人島核廢暫貯方案可行？\n\n\n8.海下孤島核廢貯存新解\n\n\n9.核廢料放馬祖想都別想！\n\n\n10.龍潭蓋天然氣發電廠？居民反彈
 \n\n\n11.陸內陸核電站選址基本確定十三五有望開工\n\n\n12.反核剩口號環團 3月11日３地大遊行\n\n\n13.龍潭蓋火力發電廠引民怨
 \n\n\n14.年金改革的加法思維\n\n\n15.太陽能、電動車將終結石油需求成長\n\n\n16.核廢料眝存場可行性評估經部2個月完成審查\n\
 n\n \n
DTSTAMP:20260419T201956Z
DTSTART;TZID=Asia/Taipei;VALUE=DATE:20170214
DTEND;TZID=Asia/Taipei;VALUE=DATE:20170215
SEQUENCE:0
TRANSP:OPAQUE
END:VEVENT
END:VCALENDAR