BEGIN:VCALENDAR
VERSION:2.0
PRODID:-//jEvents 2.0 for Joomla//EN
CALSCALE:GREGORIAN
METHOD:PUBLISH
BEGIN:VEVENT
UID:b967ece674a47a8338e5ae96c013e6af
CATEGORIES:每日新聞彙整
SUMMARY:每日剪報
DESCRIPTION;ENCODING=QUOTED-PRINTABLE:\n\n1.影響氣候變遷 人為因素是大自然170倍\n\n\n2.旱象加少核今夏供電更吃緊\n\n\n3.核廢覓地/相中4無人島\n\n\n4.,核廢
 覓地/怎麼搬打造3艘核廢船\n\n\n5.核廢覓地/回饋金給中繼島蘭嶼錢停發\n\n\n6.核廢覓地/基澎金堅拒：想都別想\n\n\n7.核廢覓地/核
 廢處置落後南韓15年\n\n\n8.核廢料場址相中無人島 基澎金馬：想都別想\n\n\n9.核廢料放無人島 安全嗎？\n\n\n10.批新政府非核家園
 牛步 3月11日廢核大遊行\n
DTSTAMP:20260419T201908Z
DTSTART;TZID=Asia/Taipei;VALUE=DATE:20170213
DTEND;TZID=Asia/Taipei;VALUE=DATE:20170214
SEQUENCE:0
TRANSP:OPAQUE
END:VEVENT
END:VCALENDAR