BEGIN:VCALENDAR
VERSION:2.0
PRODID:-//jEvents 2.0 for Joomla//EN
CALSCALE:GREGORIAN
METHOD:PUBLISH
BEGIN:VEVENT
UID:e25728990f89d5b356c89d426665d821
CATEGORIES:每日新聞彙整
SUMMARY:每日剪報
DESCRIPTION;ENCODING=QUOTED-PRINTABLE:\n\n1.傳義核廢倒台海調查周五出爐\n\n\n2.政院拚經濟 將提8千億基建特別預算\n
DTSTAMP:20260419T215837Z
DTSTART;TZID=Asia/Taipei;VALUE=DATE:20170212
DTEND;TZID=Asia/Taipei;VALUE=DATE:20170213
SEQUENCE:0
TRANSP:OPAQUE
END:VEVENT
END:VCALENDAR