BEGIN:VCALENDAR
VERSION:2.0
PRODID:-//jEvents 2.0 for Joomla//EN
CALSCALE:GREGORIAN
METHOD:PUBLISH
BEGIN:VEVENT
UID:d1838ffcc4ce44b7f33e0ec022d65192
CATEGORIES:每日新聞彙整
SUMMARY:每日剪報
DESCRIPTION;ENCODING=QUOTED-PRINTABLE:\n\n1.20萬桶核廢倒台灣海域？ 原能會追查\n\n\n2.我海域被倒核廢料？原能會：沒聽過\n
DTSTAMP:20260419T201907Z
DTSTART;TZID=Asia/Taipei;VALUE=DATE:20170211
DTEND;TZID=Asia/Taipei;VALUE=DATE:20170212
SEQUENCE:0
TRANSP:OPAQUE
END:VEVENT
END:VCALENDAR