BEGIN:VCALENDAR
VERSION:2.0
PRODID:-//jEvents 2.0 for Joomla//EN
CALSCALE:GREGORIAN
METHOD:PUBLISH
BEGIN:VEVENT
UID:e34a6548da7f889febbf778c4a9a8e8c
CATEGORIES:每日新聞彙整
SUMMARY:每日剪報
DESCRIPTION;ENCODING=QUOTED-PRINTABLE:\n\n1.法核電廠驚爆 五人嗆傷\n\n\n2.中油啟動2,125億元大投資\n\n\n3.台電擬自建天然氣接收站與中油互嗆\n\n\n4.中油6年
 2千億投資3領域\n\n\n5.觀察站／能源轉型領頭羊中油勿忘環評變數\n\n\n6.給海藻依靠離岸風機可當魚礁\n
DTSTAMP:20260419T201907Z
DTSTART;TZID=Asia/Taipei;VALUE=DATE:20170210
DTEND;TZID=Asia/Taipei;VALUE=DATE:20170211
SEQUENCE:0
TRANSP:OPAQUE
END:VEVENT
END:VCALENDAR