BEGIN:VCALENDAR
VERSION:2.0
PRODID:-//jEvents 2.0 for Joomla//EN
CALSCALE:GREGORIAN
METHOD:PUBLISH
BEGIN:VEVENT
UID:10de32b0fd8f635557f5c240c99a73e3
CATEGORIES:每日新聞彙整
SUMMARY:每日剪報
DESCRIPTION;ENCODING=QUOTED-PRINTABLE:\n\n1.台科大減碳大突破// 二氧化碳室溫下可轉甲醇\n
DTSTAMP:20260419T201957Z
DTSTART;TZID=Asia/Taipei;VALUE=DATE:20170209
DTEND;TZID=Asia/Taipei;VALUE=DATE:20170210
SEQUENCE:0
TRANSP:OPAQUE
END:VEVENT
END:VCALENDAR