BEGIN:VCALENDAR
VERSION:2.0
PRODID:-//jEvents 2.0 for Joomla//EN
CALSCALE:GREGORIAN
METHOD:PUBLISH
BEGIN:VEVENT
UID:ec03f5c63be6ab735fa465d11bb234f8
CATEGORIES:每日新聞彙整
SUMMARY:每日剪報
DESCRIPTION;ENCODING=QUOTED-PRINTABLE:\n\n1.汙染難斷定／最新檢測專家質疑不夠嚴謹\n\n\n2.專利王換人台積電打敗鴻海\n\n\n3.台積拚新製程躍居專利王\n\n\n4.CO2變
 甲醇、氫氣 減碳大突破\n
DTSTAMP:20260419T201957Z
DTSTART;TZID=Asia/Taipei;VALUE=DATE:20170208
DTEND;TZID=Asia/Taipei;VALUE=DATE:20170209
SEQUENCE:0
TRANSP:OPAQUE
END:VEVENT
END:VCALENDAR