BEGIN:VCALENDAR
VERSION:2.0
PRODID:-//jEvents 2.0 for Joomla//EN
CALSCALE:GREGORIAN
METHOD:PUBLISH
BEGIN:VEVENT
UID:35a4951025ab6d936a0873fb78b485f4
CATEGORIES:每日新聞彙整
SUMMARY:每日剪報
DESCRIPTION;ENCODING=QUOTED-PRINTABLE:\n\n1.全國首座光電埤塘發電倒數計時\n\n\n2.蘭嶼核廢料未遷 立委批\n
DTSTAMP:20260419T215838Z
DTSTART;TZID=Asia/Taipei;VALUE=DATE:20170207
DTEND;TZID=Asia/Taipei;VALUE=DATE:20170208
SEQUENCE:0
TRANSP:OPAQUE
END:VEVENT
END:VCALENDAR