BEGIN:VCALENDAR
VERSION:2.0
PRODID:-//jEvents 2.0 for Joomla//EN
CALSCALE:GREGORIAN
METHOD:PUBLISH
BEGIN:VEVENT
UID:c9dba5296e92e9c3100ab7d49ca5fd3a
CATEGORIES:每日新聞彙整
SUMMARY:每日剪報
DESCRIPTION;ENCODING=QUOTED-PRINTABLE:\n\n1.擴大內需傾向編特別預算 4年兆元軟硬兼施投資台灣\n\n\n2.ＴＲＰＭＡ副理事長張鴻仁：別讓法規變救命絆腳石\n\n\n3.二策略推新藥
 進軍國際\n\n\n4.川普反綠能各州不敢輕舉妄動\n\n\n5.離岸風力發電邁向新里程\n
DTSTAMP:20260419T201931Z
DTSTART;TZID=Asia/Taipei;VALUE=DATE:20170206
DTEND;TZID=Asia/Taipei;VALUE=DATE:20170207
SEQUENCE:0
TRANSP:OPAQUE
END:VEVENT
END:VCALENDAR