BEGIN:VCALENDAR
VERSION:2.0
PRODID:-//jEvents 2.0 for Joomla//EN
CALSCALE:GREGORIAN
METHOD:PUBLISH
BEGIN:VEVENT
UID:7b924cae90c25707acd3e065d4670e26
CATEGORIES:每日新聞彙整
SUMMARY:每日剪報
DESCRIPTION;ENCODING=QUOTED-PRINTABLE:\n\n1.東非首座太陽能電廠\n
DTSTAMP:20260419T215801Z
DTSTART;TZID=Asia/Taipei;VALUE=DATE:20170205
DTEND;TZID=Asia/Taipei;VALUE=DATE:20170206
SEQUENCE:0
TRANSP:OPAQUE
END:VEVENT
END:VCALENDAR