BEGIN:VCALENDAR
VERSION:2.0
PRODID:-//jEvents 2.0 for Joomla//EN
CALSCALE:GREGORIAN
METHOD:PUBLISH
BEGIN:VEVENT
UID:df799998853114a427b2cd77c010f6cc
CATEGORIES:每日新聞彙整
SUMMARY:每日剪報
DESCRIPTION;ENCODING=QUOTED-PRINTABLE:\n\n1.省110億台電擬建天然氣接收站\n\n\n2.伍錦霖：年改是共業考試院責無旁貸\n\n\n3.台電擬建第四、五天然氣接收站\n\n\n4.
 國家發展4年計畫拍板將砸近兆元\n\n\n5.運送能力不足陸風力發電浪費電量增5成\n\n\n6.新藥加速上市期程將設國家藥物審查中心\n\n\n7.
 政院拚生技加速新藥審查\n
DTSTAMP:20260419T215838Z
DTSTART;TZID=Asia/Taipei;VALUE=DATE:20170203
DTEND;TZID=Asia/Taipei;VALUE=DATE:20170204
SEQUENCE:0
TRANSP:OPAQUE
END:VEVENT
END:VCALENDAR