BEGIN:VCALENDAR
VERSION:2.0
PRODID:-//jEvents 2.0 for Joomla//EN
CALSCALE:GREGORIAN
METHOD:PUBLISH
BEGIN:VEVENT
UID:7ddfcaee5fd4b2a6a87e7cca6d8d3617
CATEGORIES:每日新聞彙整
SUMMARY:本日無相關剪報資料
DESCRIPTION;ENCODING=QUOTED-PRINTABLE:
DTSTAMP:20260419T201908Z
DTSTART;TZID=Asia/Taipei;VALUE=DATE:20170201
DTEND;TZID=Asia/Taipei;VALUE=DATE:20170202
SEQUENCE:0
TRANSP:OPAQUE
END:VEVENT
END:VCALENDAR